BEGIN:VCALENDAR
VERSION:2.0
PRODID:-//i4 Automation Ltd - ECPv6.15.20//NONSGML v1.0//EN
CALSCALE:GREGORIAN
METHOD:PUBLISH
X-WR-CALNAME:i4 Automation Ltd
X-ORIGINAL-URL:https://www.i4automation.co.uk
X-WR-CALDESC:Events for i4 Automation Ltd
REFRESH-INTERVAL;VALUE=DURATION:PT1H
X-Robots-Tag:noindex
X-PUBLISHED-TTL:PT1H
BEGIN:VTIMEZONE
TZID:Europe/London
BEGIN:DAYLIGHT
TZOFFSETFROM:+0000
TZOFFSETTO:+0100
TZNAME:BST
DTSTART:20250330T010000
END:DAYLIGHT
BEGIN:STANDARD
TZOFFSETFROM:+0100
TZOFFSETTO:+0000
TZNAME:GMT
DTSTART:20251026T010000
END:STANDARD
BEGIN:DAYLIGHT
TZOFFSETFROM:+0000
TZOFFSETTO:+0100
TZNAME:BST
DTSTART:20260329T010000
END:DAYLIGHT
BEGIN:STANDARD
TZOFFSETFROM:+0100
TZOFFSETTO:+0000
TZNAME:GMT
DTSTART:20261025T010000
END:STANDARD
BEGIN:DAYLIGHT
TZOFFSETFROM:+0000
TZOFFSETTO:+0100
TZNAME:BST
DTSTART:20270328T010000
END:DAYLIGHT
BEGIN:STANDARD
TZOFFSETFROM:+0100
TZOFFSETTO:+0000
TZNAME:GMT
DTSTART:20271031T010000
END:STANDARD
END:VTIMEZONE
BEGIN:VEVENT
DTSTART;VALUE=DATE:20260218
DTEND;VALUE=DATE:20260220
DTSTAMP:20260420T152259
CREATED:20200811T102024Z
LAST-MODIFIED:20251209T100512Z
UID:1459-1771372800-1771545599@www.i4automation.co.uk
SUMMARY:UniLogic PLC Training Course February 2026
DESCRIPTION:The course will include familiarisation with the software layout\, tag based IO addressing\, the new STRUCT variable types and the production of reusable code. Other subjects will include Ethernet comms\, firmware upgrades\, data logging\, remote access and alarms. \nUniLogic Day 1  \nHardware\nIntroduction to UniLogic\nUniLogic Buttons & Timers\nFunctions\nUser Access controls\nScreen Jumps & Actions \nUniLogic Day 2 \nData tables\nSD Cards / USB\nData Sampling\nAlarms\nMaths functions\nCustomer application specific functions \nWe will supply a PLC to work on during the course and all required comms cables etc. \nLunch and refreshments will be provided on both days at around 13:00.
URL:https://www.i4automation.co.uk/event/unilogic-feb/
LOCATION:i4 Automation Offices\, Unit 5\, Home Farm Court\, Diddington\, Cambridgeshire\, PE19 5XT\, United Kingdom
CATEGORIES:UniLogic Courses
ORGANIZER;CN="i4 Automation Technical Team":MAILTO:sales@i4automation.co.uk
END:VEVENT
END:VCALENDAR